BEGIN:VCALENDAR
VERSION:2.0
PRODID:EVENTFROG//EVENT//ICAL
BEGIN:VEVENT
UID:20260424T072635Z-7453097152652269415@eventfrog.at
DTSTAMP:20260424T072635Z
DTSTART:20260507T180000Z
DTEND:20260507T210000Z
SUMMARY:Benefizkonzert - Pop. Macht. Haltung.
DESCRIPTION:Im Rahmen der Aktionswoche Halt Gewalt spielen Tamara Kämpfer (October, Stimmbänder, Moiré) und Baschi Hausmann (Lovebugs, The Incident, October) bekannte Songs, welche verschiedene Aspekte von toxisc\n\nhttps://eventfrog.at/de/p/konzerte/singer-songwriter/benefizkonzert-pop-macht-haltung-7453097152652269415.html
LOCATION:Oriente Social Club
GEO:47.566654;7.592439
URL:https://eventfrog.at/de/p/konzerte/singer-songwriter/benefizkonzert-pop-macht-haltung-7453097152652269415.html
END:VEVENT
END:VCALENDAR