BEGIN:VCALENDAR
VERSION:2.0
PRODID:EVENTFROG//EVENT//ICAL
BEGIN:VEVENT
UID:20260424T063613Z-7453096378190822805@eventfrog.at
DTSTAMP:20260424T063613Z
DTSTART:20260513T210000Z
DTEND:20260514T030000Z
SUMMARY:Addiction (vor Auffahrt)
DESCRIPTION:HipHop • R&B • Afrobeats • Dancehall • Reggaeton\n\nhttps://eventfrog.at/de/p/partys/hip-hop-rap/addiction-vor-auffahrt-7453096378190822805.html
LOCATION:Kaufleuten Club
GEO:47.371008;8.535925
URL:https://eventfrog.at/de/p/partys/hip-hop-rap/addiction-vor-auffahrt-7453096378190822805.html
END:VEVENT
END:VCALENDAR