BEGIN:VCALENDAR
VERSION:2.0
PRODID:EVENTFROG//EVENT//ICAL
BEGIN:VEVENT
UID:20260424T024045Z-7453096333274018068@eventfrog.at
DTSTAMP:20260424T024045Z
DTSTART:20260502T170000Z
DTEND:20260502T200000Z
SUMMARY:RYAN HAYASHI & Friends - Live! Special Edition Show
DESCRIPTION:Ryan Hayashi zeigt von 19 bis 22 Uhr eine 3-stündige Live-Show mit Zauberkunst, exklusiven Filmen und Überraschungsgästen.\n\nhttps://eventfrog.at/de/p/musicals-shows/variete/ryan-hayashi-friends-live-special-edition-show-7453096333274018068.html
LOCATION:Universum Theater Landau
GEO:49.193521;8.094859
URL:https://eventfrog.at/de/p/musicals-shows/variete/ryan-hayashi-friends-live-special-edition-show-7453096333274018068.html
END:VEVENT
END:VCALENDAR