BEGIN:VCALENDAR
VERSION:2.0
PRODID:EVENTFROG//EVENT//ICAL
BEGIN:VEVENT
UID:20260424T064108Z-7453086406384079744@eventfrog.at
DTSTAMP:20260424T064108Z
DTSTART:20260426T120000Z
DTEND:20260426T160000Z
SUMMARY:DJ ON THE ROOF mit Jesse James
DESCRIPTION:Unser legendäres DJ on the Roof geht in eine weitere Runde mit DJ Jesse James (Deep, Vocal & Soulful House)\n\nhttps://eventfrog.at/de/p/partys/afterwork/dj-on-the-roof-mit-jesse-james-7453086406384079744.html
LOCATION:Minigolf Lido
GEO:47.051436;8.336886
URL:https://eventfrog.at/de/p/partys/afterwork/dj-on-the-roof-mit-jesse-james-7453086406384079744.html
END:VEVENT
END:VCALENDAR