BEGIN:VCALENDAR
VERSION:2.0
PRODID:EVENTFROG//EVENT//ICAL
BEGIN:VEVENT
UID:20260424T072708Z-7453081260753217941@eventfrog.at
DTSTAMP:20260424T072708Z
DTSTART:20260611T150000Z
DTEND:20260718T220000Z
SUMMARY:WM 2026 Live Übertragung im Wyns Pub
DESCRIPTION:Seien Sie dabei, wenn die besten Nationalmannschaften der Welt um den begehrtesten Titel im Fussball kämpfen.\n\nhttps://eventfrog.at/de/p/sport-fitness/fussball/wm-2026-live-uebertragung-im-wyns-pub-7453081260753217941.html
LOCATION:Wyn’s Pub Wynental
GEO:47.359515;8.097234
URL:https://eventfrog.at/de/p/sport-fitness/fussball/wm-2026-live-uebertragung-im-wyns-pub-7453081260753217941.html
END:VEVENT
END:VCALENDAR