BEGIN:VCALENDAR
VERSION:2.0
PRODID:EVENTFROG//EVENT//ICAL
BEGIN:VEVENT
UID:20260424T090228Z-7453071272496347096@eventfrog.at
DTSTAMP:20260424T090228Z
DTSTART:20261106T210000Z
DTEND:20261107T010000Z
SUMMARY:Coyote Ugly Party im Wyns Pub Wynental
DESCRIPTION:Ab 22:00 Uhr wird die Bühne heiss: Erlebe eine atemberaubende Live Show von Splendid Dancers – Pole Dance auf höchstem Niveau, der dir den Atem verschlägt und die Nacht unvergesslich macht.\n\nhttps://eventfrog.at/de/p/partys/swing/coyote-ugly-party-im-wyns-pub-wynental-7453071272496347096.html
LOCATION:Wyn’s Pub Wynental
GEO:47.359515;8.097234
URL:https://eventfrog.at/de/p/partys/swing/coyote-ugly-party-im-wyns-pub-wynental-7453071272496347096.html
END:VEVENT
END:VCALENDAR