BEGIN:VCALENDAR
VERSION:2.0
PRODID:EVENTFROG//EVENT//ICAL
BEGIN:VEVENT
UID:20260424T072638Z-7453069585941588017@eventfrog.at
DTSTAMP:20260424T072638Z
DTSTART:20261013T140000Z
DTEND:20261013T150000Z
SUMMARY:Vorsorgeauftrag und Patientenverfügung
DESCRIPTION:Die Rheumaliga beider Basel lädt zum kostenlosen Vortrag über den Vorsorgeauftrag und die Patientenverfügung ein.\n\nhttps://eventfrog.at/de/p/fuehrungen-vortraege/vortrag/vorsorgeauftrag-und-patientenverfuegung-7453069585941588017.html
LOCATION:Residenz Südpark, Basel
GEO:47.545693;7.589007
URL:https://eventfrog.at/de/p/fuehrungen-vortraege/vortrag/vorsorgeauftrag-und-patientenverfuegung-7453069585941588017.html
END:VEVENT
END:VCALENDAR