BEGIN:VCALENDAR
VERSION:2.0
PRODID:EVENTFROG//EVENT//ICAL
BEGIN:VEVENT
UID:20260424T071500Z-7453060970434319857@eventfrog.at
DTSTAMP:20260424T071500Z
DTSTART:20260501T160000Z
DTEND:20260503T160000Z
SUMMARY:Exposition Symptômes
DESCRIPTION:L'exposition « Symptômes » de Théraulaz et Studer dévoile leurs œuvres grand format du 1er au 4 mai 2026 à Espace Démart, Lausanne.\n\nhttps://eventfrog.at/en/p/art-exhibitions/exhibition/exposition-symptomes-7453060970434319857.html
LOCATION:Espace DémArt
GEO:46.521294;6.625843
URL:https://eventfrog.at/en/p/art-exhibitions/exhibition/exposition-symptomes-7453060970434319857.html
END:VEVENT
END:VCALENDAR