BEGIN:VCALENDAR
VERSION:2.0
PRODID:EVENTFROG//EVENT//ICAL
BEGIN:VEVENT
UID:20260424T214236Z-7453056010988568064@eventfrog.at
DTSTAMP:20260424T214236Z
DTSTART:20260609T180000Z
SUMMARY:Momentum
DESCRIPTION:Momentum\n\nhttps://eventfrog.at/de/p/theater-buehne/momentum-7453056010988568064.html
LOCATION:Casinotheater
GEO:47.499716;8.726641
URL:https://eventfrog.at/de/p/theater-buehne/momentum-7453056010988568064.html
END:VEVENT
END:VCALENDAR