BEGIN:VCALENDAR
VERSION:2.0
PRODID:EVENTFROG//EVENT//ICAL
BEGIN:VEVENT
UID:20260424T105039Z-7453055559702467644@eventfrog.at
DTSTAMP:20260424T105039Z
DTSTART:20260522T180000Z
DTEND:20260522T215500Z
SUMMARY:Roger F. & The Structure
DESCRIPTION:Poet-Punk von Roger F. & The Structure\n\nhttps://eventfrog.at/de/p/konzerte/punk/roger-f-the-structure-7453055559702467644.html
LOCATION:Das Lehrer*zimmer, Bern
GEO:46.950227;7.443895
URL:https://eventfrog.at/de/p/konzerte/punk/roger-f-the-structure-7453055559702467644.html
END:VEVENT
END:VCALENDAR