BEGIN:VCALENDAR
VERSION:2.0
PRODID:EVENTFROG//EVENT//ICAL
BEGIN:VEVENT
UID:20260424T000359Z-7453052856540645593@eventfrog.at
DTSTAMP:20260424T000359Z
DTSTART:20260808T100000Z
DTEND:20260815T100000Z
SUMMARY:Ausbildungsretreat in Kuscheltherapie
DESCRIPTION:Werde zertifizierte:r Kuscheltherapeut:in und lerne achtsame, nährende Berührung zu schenken. Erlebe Gemeinschaft und Natur mit Gleichgesinnten. Tanke auf und genieße pure Geborgenheit. \n\nhttps://eventfrog.at/de/p/kurse-seminare/berufliche-bildung/ausbildungsretreat-in-kuscheltherapie-7453052856540645593.html
LOCATION:Kulturhaus Wolfsberg
GEO:47.953155;15.050205
URL:https://eventfrog.at/de/p/kurse-seminare/berufliche-bildung/ausbildungsretreat-in-kuscheltherapie-7453052856540645593.html
END:VEVENT
END:VCALENDAR