BEGIN:VCALENDAR
VERSION:2.0
PRODID:EVENTFROG//EVENT//ICAL
BEGIN:VEVENT
UID:20260424T062238Z-7453049407417659351@eventfrog.at
DTSTAMP:20260424T062238Z
DTSTART:20260502T120000Z
DTEND:20260603T160000Z
SUMMARY:New Exhibition & Vernissage: “Hhh – Ahhh” by Tobias Gutmann
DESCRIPTION:Hhh – Ahhh ist eine Einzelausstellung des Zürcher Künstlers Tobias Gutmann und geht von etwas Alltäglichem und zugleich leicht Übersehenem aus: dem Atem.\n\nhttps://eventfrog.at/de/p/kunst-ausstellungen/ausstellung/new-exhibition-vernissage-hhh-ahhh-by-tobias-gutmann-7453049407417659351.html
LOCATION:MEP
GEO:47.046432;8.313606
URL:https://eventfrog.at/de/p/kunst-ausstellungen/ausstellung/new-exhibition-vernissage-hhh-ahhh-by-tobias-gutmann-7453049407417659351.html
END:VEVENT
END:VCALENDAR