BEGIN:VCALENDAR
VERSION:2.0
PRODID:EVENTFROG//EVENT//ICAL
BEGIN:VEVENT
UID:20260424T072443Z-7453046298465330930@eventfrog.at
DTSTAMP:20260424T072443Z
DTSTART:20260615T120000Z
DTEND:20260615T150000Z
SUMMARY:KI-Entdeckungsreise für ältere Einsteigerinnen und Einsteige
DESCRIPTION:Künstliche Intelligenz im Alltag und im Alter bewusst, sicher und gekonnt einsetzen\n\nhttps://eventfrog.at/de/p/kurse-seminare/computer-edv/ki-entdeckungsreise-fuer-aeltere-einsteigerinnen-und-einsteige-7453046298465330930.html
LOCATION:OST Ostschweizer Fachhochschule, Campus St.Gallen
GEO:47.423285;9.367650
URL:https://eventfrog.at/de/p/kurse-seminare/computer-edv/ki-entdeckungsreise-fuer-aeltere-einsteigerinnen-und-einsteige-7453046298465330930.html
END:VEVENT
END:VCALENDAR