BEGIN:VCALENDAR
VERSION:2.0
PRODID:EVENTFROG//EVENT//ICAL
BEGIN:VEVENT
UID:20260426T004349Z-7453045903399614374@eventfrog.at
DTSTAMP:20260426T004349Z
DTSTART:20260521T073000Z
DTEND:20260521T083000Z
SUMMARY:Mama-Baby-Yoga - Präventionskurs
DESCRIPTION:Sanfter Mama-Baby-Yoga-Kurs zur Rückbildung und Stärkung von Mutter und Baby, Start 21.05.2026, donnerstags 9:30 Uhr.\n\nhttps://eventfrog.at/de/p/sport-fitness/yoga/mama-baby-yoga-praeventionskurs-7453045903399614374.html
LOCATION:Yoga Labor Berlin
GEO:52.462984;13.509339
URL:https://eventfrog.at/de/p/sport-fitness/yoga/mama-baby-yoga-praeventionskurs-7453045903399614374.html
END:VEVENT
END:VCALENDAR