BEGIN:VCALENDAR
VERSION:2.0
PRODID:EVENTFROG//EVENT//ICAL
BEGIN:VEVENT
UID:20260424T072550Z-7453043919170835344@eventfrog.at
DTSTAMP:20260424T072550Z
DTSTART:20260513T161500Z
DTEND:20260513T183000Z
SUMMARY:UN under pressure and its impact on the Status of Women
DESCRIPTION:BPW Club Zurich, Wikimedia CH and Frieda invite you to explore and discuss the importance of non-profit work for peace and gender equity.\n\nhttps://eventfrog.at/de/p/fuehrungen-vortraege/podium/un-under-pressure-and-its-impact-on-the-status-of-women-7453043919170835344.html
LOCATION:Debattierhaus Karl*a
GEO:47.370552;8.545169
URL:https://eventfrog.at/de/p/fuehrungen-vortraege/podium/un-under-pressure-and-its-impact-on-the-status-of-women-7453043919170835344.html
END:VEVENT
END:VCALENDAR