BEGIN:VCALENDAR
VERSION:2.0
PRODID:EVENTFROG//EVENT//ICAL
BEGIN:VEVENT
UID:20260424T095812Z-7453036192973517562@eventfrog.at
DTSTAMP:20260424T095812Z
DTSTART:20260605T150000Z
DTEND:20260605T190000Z
SUMMARY:FIRST FRIDAY
DESCRIPTION:Mellingens Altstadt wird am ersten Freitag im Mai, Juni, Juli und September von 17-21 Uhr mit Kunst, Musik, besonderen Aktionen, Attraktionen und Kulinarik belebt.\n\nhttps://eventfrog.at/de/p/diverses/first-friday-7453036192973517562.html
LOCATION:Altstadt Mellingen
GEO:47.418515;8.273224
URL:https://eventfrog.at/de/p/diverses/first-friday-7453036192973517562.html
END:VEVENT
END:VCALENDAR