BEGIN:VCALENDAR
VERSION:2.0
PRODID:EVENTFROG//EVENT//ICAL
BEGIN:VEVENT
UID:20260425T165930Z-7453033759153104117@eventfrog.at
DTSTAMP:20260425T165930Z
DTSTART:20260428T170000Z
DTEND:20260609T181500Z
SUMMARY:Yin Yoga
DESCRIPTION:Yin Yoga: Ruhiger Übungsstil mit sanften Dehnungen zur Stimulierung tiefer Gewebeschichten und Stressabbau. Auch für Menschen mit Einschränkungen geeignet. Infos: www.aktiventspant.de.\n\nhttps://eventfrog.at/de/p/gesundheit-spiritualitaet/gesundheit-wohlbefinden/yin-yoga-7453033759153104117.html
LOCATION:Aktiv Entspannt- Zentrum für Klang und Entspannung Sylvia Ellingen
GEO:50.726517;7.366158
URL:https://eventfrog.at/de/p/gesundheit-spiritualitaet/gesundheit-wohlbefinden/yin-yoga-7453033759153104117.html
END:VEVENT
END:VCALENDAR