BEGIN:VCALENDAR
VERSION:2.0
PRODID:EVENTFROG//EVENT//ICAL
BEGIN:VEVENT
UID:20260424T000511Z-7453012340302200828@eventfrog.at
DTSTAMP:20260424T000511Z
DTSTART:20260509T080000Z
DTEND:20260509T103000Z
SUMMARY:Ein Rucksack voller Ruhe und Klarheit
DESCRIPTION:1000 km oder 280 km Wanderung sind aktuell nicht drinnen bei dem vollen Alltag. Doch eine Auszeit wäre schon fein. Und die kommt auf dem Camino 2 Go daher. Ein Vormittag voller Camino-Energie.\n\nhttps://eventfrog.at/de/p/kurse-seminare/sonstige-kurse-seminare/ein-rucksack-voller-ruhe-und-klarheit-7453012340302200828.html
LOCATION:Online-Event
URL:https://eventfrog.at/de/p/kurse-seminare/sonstige-kurse-seminare/ein-rucksack-voller-ruhe-und-klarheit-7453012340302200828.html
END:VEVENT
END:VCALENDAR