BEGIN:VCALENDAR
VERSION:2.0
PRODID:EVENTFROG//EVENT//ICAL
BEGIN:VEVENT
UID:20260424T084043Z-7453011963288778488@eventfrog.at
DTSTAMP:20260424T084043Z
DTSTART:20260811T120000Z
DTEND:20260811T140000Z
SUMMARY:Entspannungsmethoden für Kinder von 6 bis ca. 11 Jahren
DESCRIPTION:Einfache Entspannungs-Methoden für Kinder\n\nhttps://eventfrog.at/de/p/kurse-seminare/sonstige-kurse-seminare/entspannungsmethoden-fuer-kinder-von-6-bis-ca-11-jahren-7453011963288778488.html
LOCATION:RUUM 8
GEO:47.227448;8.674305
URL:https://eventfrog.at/de/p/kurse-seminare/sonstige-kurse-seminare/entspannungsmethoden-fuer-kinder-von-6-bis-ca-11-jahren-7453011963288778488.html
END:VEVENT
END:VCALENDAR