BEGIN:VCALENDAR
VERSION:2.0
PRODID:EVENTFROG//EVENT//ICAL
BEGIN:VEVENT
UID:20260423T163648Z-7453004578570683194@eventfrog.at
DTSTAMP:20260423T163648Z
DTSTART:20260423T093000Z
DTEND:20260423T200000Z
SUMMARY:Sommerabende auf der Terrasse im Thessoni
DESCRIPTION:Heute schon etwas vor?\nEin kühler Drink, ein spontanes Dinner oder einfach Zeit mit Freunden.\nUnsere Terrasse in Regensdorf ist der Ort dafür.\n\nhttps://eventfrog.at/de/p/essen-trinken/sommerabende-auf-der-terrasse-im-thessoni-7453004578570683194.html
LOCATION:Boutiquehotel Thessoni Classic Zürich-Regensdorf
GEO:47.438751;8.476474
URL:https://eventfrog.at/de/p/essen-trinken/sommerabende-auf-der-terrasse-im-thessoni-7453004578570683194.html
END:VEVENT
END:VCALENDAR