BEGIN:VCALENDAR
VERSION:2.0
PRODID:EVENTFROG//EVENT//ICAL
BEGIN:VEVENT
UID:20260424T072502Z-7453002968377350207@eventfrog.at
DTSTAMP:20260424T072502Z
DTSTART:20260614T173000Z
DTEND:20260614T193000Z
SUMMARY:Is This Anything? - A Comedy Show
DESCRIPTION:Pro comedians! Brand new jokes!\n\nhttps://eventfrog.at/en/p/theatre-stage/comedy-cabaret/is-this-anything-a-comedy-show-7453002968377350207.html
LOCATION:ManaBar
GEO:47.548390;7.590191
URL:https://eventfrog.at/en/p/theatre-stage/comedy-cabaret/is-this-anything-a-comedy-show-7453002968377350207.html
END:VEVENT
END:VCALENDAR