BEGIN:VCALENDAR
VERSION:2.0
PRODID:EVENTFROG//EVENT//ICAL
BEGIN:VEVENT
UID:20260424T062242Z-7452997020061582792@eventfrog.at
DTSTAMP:20260424T062242Z
DTSTART:20260531T150000Z
DTEND:20260531T160000Z
SUMMARY:Konzert: Orgel trifft Hackbrett
DESCRIPTION:Konzert mit Nicolas Senn, Schweizer Hackbrettvirtuose und Grimoaldo Macchia, Komponist und Organist an der Orgel\n\nhttps://eventfrog.at/de/p/konzerte/schlager-volksmusik/konzert-orgel-trifft-hackbrett-7452997020061582792.html
LOCATION:Kirche St.Marien
GEO:46.757343;7.635401
URL:https://eventfrog.at/de/p/konzerte/schlager-volksmusik/konzert-orgel-trifft-hackbrett-7452997020061582792.html
END:VEVENT
END:VCALENDAR