BEGIN:VCALENDAR
VERSION:2.0
PRODID:EVENTFROG//EVENT//ICAL
BEGIN:VEVENT
UID:20260425T023445Z-7452980525151559064@eventfrog.at
DTSTAMP:20260425T023445Z
DTSTART:20260618T150000Z
DTEND:20260618T200000Z
SUMMARY:SOUNDBAR IM ESSZIMMER & LOFT
DESCRIPTION:Die Soundbar im ESSZIMMER & LOFT findet donnerstags 17-22 Uhr in der Coco Bar statt mit entspannter Atmosphäre und Musik.\n\nhttps://eventfrog.at/de/p/diverses/soundbar-im-esszimmer-loft-7452980525151559064.html
LOCATION:ESSZIMMER & LOFT
GEO:47.062932;8.310120
URL:https://eventfrog.at/de/p/diverses/soundbar-im-esszimmer-loft-7452980525151559064.html
END:VEVENT
END:VCALENDAR