BEGIN:VCALENDAR
VERSION:2.0
PRODID:EVENTFROG//EVENT//ICAL
BEGIN:VEVENT
UID:20260424T092436Z-7452975971332820586@eventfrog.at
DTSTAMP:20260424T092436Z
DTSTART:20261017T170000Z
DTEND:20261017T220000Z
SUMMARY:Krawallbrüder Tour - Tuggen (CH)
DESCRIPTION:Krawallbrüder live: harter Metalrock, ehrliche Hymnen und volle Wucht in der Eventhall.\n\nhttps://eventfrog.at/de/p/konzerte/pop-rock/krawallbrueder-tour-tuggen-ch-7452975971332820586.html
LOCATION:Event- und Kulturhalle Tuggen
GEO:47.185794;8.930475
URL:https://eventfrog.at/de/p/konzerte/pop-rock/krawallbrueder-tour-tuggen-ch-7452975971332820586.html
END:VEVENT
END:VCALENDAR