BEGIN:VCALENDAR
VERSION:2.0
PRODID:EVENTFROG//EVENT//ICAL
BEGIN:VEVENT
UID:20260424T065101Z-7452941602396353670@eventfrog.at
DTSTAMP:20260424T065101Z
DTSTART:20260430T173000Z
SUMMARY:Orgelkonzert mit Christian Stegmann
DESCRIPTION:Christian Stegmann spielt am 30. April um 19.30 Uhr in Cham Barock- und Vorklassikwerke sowie eine Improvisation auf der Orgel.\n\nhttps://eventfrog.at/de/p/konzerte/kirchenmusik/orgelkonzert-mit-christian-stegmann-7452941602396353670.html
LOCATION:Katholische Kirche St. Jakob
GEO:47.179347;8.459443
URL:https://eventfrog.at/de/p/konzerte/kirchenmusik/orgelkonzert-mit-christian-stegmann-7452941602396353670.html
END:VEVENT
END:VCALENDAR