BEGIN:VCALENDAR
VERSION:2.0
PRODID:EVENTFROG//EVENT//ICAL
BEGIN:VEVENT
UID:20260424T083147Z-7452835033423862106@eventfrog.at
DTSTAMP:20260424T083147Z
DTSTART:20260503T120000Z
DTEND:20260503T140000Z
SUMMARY:Plitsch Platsch forever!
DESCRIPTION:Plitsch Platsch forever!\n\nhttps://eventfrog.at/de/p/freizeit-ausfluege/plitsch-platsch-forever-7452835033423862106.html
LOCATION:Kino Roxy
GEO:47.565019;9.374795
URL:https://eventfrog.at/de/p/freizeit-ausfluege/plitsch-platsch-forever-7452835033423862106.html
END:VEVENT
END:VCALENDAR