BEGIN:VCALENDAR
VERSION:2.0
PRODID:EVENTFROG//EVENT//ICAL
BEGIN:VEVENT
UID:20260424T072545Z-7452817558044953767@eventfrog.at
DTSTAMP:20260424T072545Z
DTSTART:20260525T120000Z
DTEND:20260525T150000Z
SUMMARY:️ ️ Emotional release Breathwork & cacao ritual ️️
DESCRIPTION:Heart Awakening & Energy Flow \n– Cacao Ceremony & Emotional Release Breathwork –\nÖffne dein Herz, lasse Altes los und sammle neue Energie.\n\nAm 25.05., 14.00-17.00, SoulCity Zürich.\n\n\nhttps://eventfrog.at/de/p/gesundheit-spiritualitaet/gesundheit-wohlbefinden/emotional-release-breathwork-cacao-ritual-7452817558044953767.html
LOCATION:Soul City
GEO:47.377890;8.529110
URL:https://eventfrog.at/de/p/gesundheit-spiritualitaet/gesundheit-wohlbefinden/emotional-release-breathwork-cacao-ritual-7452817558044953767.html
END:VEVENT
END:VCALENDAR