BEGIN:VCALENDAR
VERSION:2.0
PRODID:EVENTFROG//EVENT//ICAL
BEGIN:VEVENT
UID:20260424T072633Z-7452812134939906710@eventfrog.at
DTSTAMP:20260424T072633Z
DTSTART:20260509T180000Z
DTEND:20260509T215900Z
SUMMARY:Milonga mit live Musik des El Cachivache Quinteto
DESCRIPTION:In Aarau an einer freundschaftlichen Milonga mit Bar zu live-Musik tanzen.\nEl Cachivache spielt mitreissenden modernen Tango.  Eintritt Fr. 40.-\n\nhttps://eventfrog.at/de/p/partys/sonstige-partys/milonga-mit-live-musik-des-el-cachivache-quinteto-7452812134939906710.html
LOCATION:Mühlemattstrasse 56
GEO:47.394842;8.047488
URL:https://eventfrog.at/de/p/partys/sonstige-partys/milonga-mit-live-musik-des-el-cachivache-quinteto-7452812134939906710.html
END:VEVENT
END:VCALENDAR