BEGIN:VCALENDAR
VERSION:2.0
PRODID:EVENTFROG//EVENT//ICAL
BEGIN:VEVENT
UID:20260424T072644Z-7452808242713859107@eventfrog.at
DTSTAMP:20260424T072644Z
DTSTART:20260429T161500Z
DTEND:20260429T171500Z
SUMMARY:Fascial Maneuvers am See - Rewind & Let Go
DESCRIPTION:Am Mittwoch von 18:15-19:15 Uhr bietet Fascial Maneuvers im Park eine sanfte Faszien-Session zur Entspannung bei gutem Wetter.\n\nhttps://eventfrog.at/de/p/kurse-seminare/sonstige-kurse-seminare/fascial-maneuvers-am-see-rewind-let-go-7452808242713859107.html
LOCATION:Hafen Arbon - Schlosswiese
GEO:47.514835;9.438912
URL:https://eventfrog.at/de/p/kurse-seminare/sonstige-kurse-seminare/fascial-maneuvers-am-see-rewind-let-go-7452808242713859107.html
END:VEVENT
END:VCALENDAR