BEGIN:VCALENDAR
VERSION:2.0
PRODID:EVENTFROG//EVENT//ICAL
BEGIN:VEVENT
UID:20260424T090228Z-7452799252177138730@eventfrog.at
DTSTAMP:20260424T090228Z
DTSTART:20260527T173000Z
DTEND:20260527T183000Z
SUMMARY:"Sofa-Reisen" - Referat für Eltern
DESCRIPTION:Wie kann die Sprach- und Leseentwicklung in der Familie (mit Kindern von ca. 2-6 Jahren) unterstützt werden? Sandra Hirt, Leseanimatorin,  gibt wertvolle Tipps zum gemeinsamen Erleben von Büchern. \n\nhttps://eventfrog.at/de/p/fuehrungen-vortraege/vortrag/sofa-reisen-referat-fuer-eltern-7452799252177138730.html
LOCATION:Dorfbibliothek Obersiggenthal
GEO:47.486895;8.293997
URL:https://eventfrog.at/de/p/fuehrungen-vortraege/vortrag/sofa-reisen-referat-fuer-eltern-7452799252177138730.html
END:VEVENT
END:VCALENDAR