BEGIN:VCALENDAR
VERSION:2.0
PRODID:EVENTFROG//EVENT//ICAL
BEGIN:VEVENT
UID:20260423T005449Z-7452786898194438675@eventfrog.at
DTSTAMP:20260423T005449Z
DTSTART:20260424T170000Z
DTEND:20260424T180000Z
SUMMARY:Mantrasingen "chill'n'chant"
DESCRIPTION:Golden Moon bietet 60 Minuten Mantrasingen in Bern, das innere Ruhe spendet und Kraft schenkt, inkl. Tee und Muffins.\n\nhttps://eventfrog.at/de/p/gesundheit-spiritualitaet/spiritualitaet/mantrasingen-chill-n-chant-7452786898194438675.html
LOCATION:Raum8
GEO:46.959548;7.457934
URL:https://eventfrog.at/de/p/gesundheit-spiritualitaet/spiritualitaet/mantrasingen-chill-n-chant-7452786898194438675.html
END:VEVENT
END:VCALENDAR