BEGIN:VCALENDAR
VERSION:2.0
PRODID:EVENTFROG//EVENT//ICAL
BEGIN:VEVENT
UID:20260424T123025Z-7452772692837589676@eventfrog.at
DTSTAMP:20260424T123025Z
DTSTART:20261114T183000Z
DTEND:20261115T030000Z
SUMMARY:Gogo & Friends Festival
DESCRIPTION:Mini Punk Rock Festival \n\nhttps://eventfrog.at/de/p/festivals/pop-rock/gogo-friends-festival-7452772692837589676.html
LOCATION:Brickhouse Berlin
GEO:52.550323;13.443245
URL:https://eventfrog.at/de/p/festivals/pop-rock/gogo-friends-festival-7452772692837589676.html
END:VEVENT
END:VCALENDAR