BEGIN:VCALENDAR
VERSION:2.0
PRODID:EVENTFROG//EVENT//ICAL
BEGIN:VEVENT
UID:20260422T233444Z-7452755581201342505@eventfrog.at
DTSTAMP:20260422T233444Z
DTSTART:20260519T070000Z
DTEND:20260519T163000Z
SUMMARY:Blütenparadies – Gewächshausverkauf und Einpflanzen
DESCRIPTION:Im Blütenparadies wählst du aus 300+ Bio-Pflanzen, die du vor Ort selbst in deine Gefässe pflanzen oder kaufen kannst.\n\nhttps://eventfrog.at/de/p/freizeit-ausfluege/ausflug/bluetenparadies-gewaechshausverkauf-und-einpflanzen-7452755581201342505.html
LOCATION:Gartencenter Huplant
GEO:47.318181;8.044294
URL:https://eventfrog.at/de/p/freizeit-ausfluege/ausflug/bluetenparadies-gewaechshausverkauf-und-einpflanzen-7452755581201342505.html
END:VEVENT
END:VCALENDAR