BEGIN:VCALENDAR
VERSION:2.0
PRODID:EVENTFROG//EVENT//ICAL
BEGIN:VEVENT
UID:20260424T065107Z-7452744271910684156@eventfrog.at
DTSTAMP:20260424T065107Z
DTSTART:20260522T180000Z
DTEND:20260522T220000Z
SUMMARY:Living Room Concert
DESCRIPTION:Jessica Rivers, Slavi und N-Idea verzaubern mit gefühlvoller Musik in intimer Atmosphäre. Limited Space, Unlimited Feeling.\n\nhttps://eventfrog.at/de/p/konzerte/singer-songwriter/living-room-concert-7452744271910684156.html
LOCATION:industrie45
GEO:47.182217;8.520759
URL:https://eventfrog.at/de/p/konzerte/singer-songwriter/living-room-concert-7452744271910684156.html
END:VEVENT
END:VCALENDAR