BEGIN:VCALENDAR
VERSION:2.0
PRODID:EVENTFROG//EVENT//ICAL
BEGIN:VEVENT
UID:20260424T084254Z-7452739573988231636@eventfrog.at
DTSTAMP:20260424T084254Z
DTSTART:20260511T130000Z
DTEND:20260511T153000Z
SUMMARY:amm Café Med Zürich
DESCRIPTION:Unterstützung bei medizinischen Fragen und Entscheidungen. Ein Angebot für alle, in jedem Alter, zu allen medizinischen Fragen. Ohne Zeitdruck, ohne Voranmeldung, persönlich und kostenlos.\n\nhttps://eventfrog.at/de/p/gesundheit-spiritualitaet/gesundheit-wohlbefinden/amm-cafe-med-zuerich-7452739573988231636.html
LOCATION:Café Mühlebach
GEO:47.363709;8.552110
URL:https://eventfrog.at/de/p/gesundheit-spiritualitaet/gesundheit-wohlbefinden/amm-cafe-med-zuerich-7452739573988231636.html
END:VEVENT
END:VCALENDAR