BEGIN:VCALENDAR
VERSION:2.0
PRODID:EVENTFROG//EVENT//ICAL
BEGIN:VEVENT
UID:20260424T071158Z-7452736414960083494@eventfrog.at
DTSTAMP:20260424T071158Z
DTSTART:20260517T163000Z
DTEND:20260517T173000Z
SUMMARY:Breathwork & Sound Meditation
DESCRIPTION:Experience active and passive meditation with Sound Meditation & Breathwork for physical and mental regeneration. Open to all, no experience required.\n\nhttps://eventfrog.at/de/p/diverses/breathwork-sound-meditation-7452736414960083494.html
LOCATION:Onmind
GEO:47.551650;7.603354
URL:https://eventfrog.at/de/p/diverses/breathwork-sound-meditation-7452736414960083494.html
END:VEVENT
END:VCALENDAR