BEGIN:VCALENDAR
VERSION:2.0
PRODID:EVENTFROG//EVENT//ICAL
BEGIN:VEVENT
UID:20260424T095957Z-7452732377577560614@eventfrog.at
DTSTAMP:20260424T095957Z
DTSTART:20260506T140000Z
DTEND:20260506T150000Z
SUMMARY:«Eisen war ich, Kupfer bin ich, Gold bedeckt mich»
DESCRIPTION:Themenführung in der Abegg-Stiftung mit Prof. Dr. Evelin Wetter, Kuratorin\n\nhttps://eventfrog.at/de/p/fuehrungen-vortraege/fuehrung/eisen-war-ich-kupfer-bin-ich-gold-bedeckt-mich-7452732377577560614.html
LOCATION:Abegg-Stiftung
GEO:46.815411;7.494730
URL:https://eventfrog.at/de/p/fuehrungen-vortraege/fuehrung/eisen-war-ich-kupfer-bin-ich-gold-bedeckt-mich-7452732377577560614.html
END:VEVENT
END:VCALENDAR