BEGIN:VCALENDAR
VERSION:2.0
PRODID:EVENTFROG//EVENT//ICAL
BEGIN:VEVENT
UID:20260424T090228Z-7452732005077270171@eventfrog.at
DTSTAMP:20260424T090228Z
DTSTART:20260614T130000Z
SUMMARY:Die Himmel erzählen - Mit Werken von Schütz, Bruckner, Lauri
DESCRIPTION:Kammerchor legato m singt facettenreiche a cappella-Werke von Schütz, Bruckner und Gatzke an drei Sommerkonzerten.\n\nhttps://eventfrog.at/de/p/konzerte/chor/die-himmel-erzaehlen-mit-werken-von-schuetz-bruckner-lauri-7452732005077270171.html
LOCATION:Pfarrkirche Liebfrauen-Überwasser
GEO:51.964125;7.622914
URL:https://eventfrog.at/de/p/konzerte/chor/die-himmel-erzaehlen-mit-werken-von-schuetz-bruckner-lauri-7452732005077270171.html
END:VEVENT
END:VCALENDAR