BEGIN:VCALENDAR
VERSION:2.0
PRODID:EVENTFROG//EVENT//ICAL
BEGIN:VEVENT
UID:20260424T105041Z-7452731460937584543@eventfrog.at
DTSTAMP:20260424T105041Z
DTSTART:20260601T140000Z
DTEND:20260601T163000Z
SUMMARY:amm Café Med St. Gallen
DESCRIPTION:Unterstützung bei medizinischen Fragen und Entscheidungen. Ein Angebot für alle, in jedem Alter, zu allen medizinischen Fragen. Ohne Zeitdruck, ohne Voranmeldung, persönlich und kostenlos.\n\nhttps://eventfrog.at/de/p/gesundheit-spiritualitaet/gesundheit-wohlbefinden/amm-cafe-med-st-gallen-7452731460937584543.html
LOCATION:DenkBar
GEO:47.423897;9.376600
URL:https://eventfrog.at/de/p/gesundheit-spiritualitaet/gesundheit-wohlbefinden/amm-cafe-med-st-gallen-7452731460937584543.html
END:VEVENT
END:VCALENDAR