BEGIN:VCALENDAR
VERSION:2.0
PRODID:EVENTFROG//EVENT//ICAL
BEGIN:VEVENT
UID:20260424T084232Z-7452730286217938278@eventfrog.at
DTSTAMP:20260424T084232Z
DTSTART:20260816T140000Z
DTEND:20260816T160000Z
SUMMARY:TRE & Meditation - Der Karneol & alles fliesst
DESCRIPTION:Meditation mit Jaspis nach Heidrun Horn zur Förderung von Lebensenergie, Sexualität und kontrolliertem Loslassen.\n\nhttps://eventfrog.at/de/p/gesundheit-spiritualitaet/gesundheit-wohlbefinden/tre-meditation-der-karneol-alles-fliesst-7452730286217938278.html
LOCATION:Gsundheitspraxis Kriech
GEO:47.067071;7.343919
URL:https://eventfrog.at/de/p/gesundheit-spiritualitaet/gesundheit-wohlbefinden/tre-meditation-der-karneol-alles-fliesst-7452730286217938278.html
END:VEVENT
END:VCALENDAR