BEGIN:VCALENDAR
VERSION:2.0
PRODID:EVENTFROG//EVENT//ICAL
BEGIN:VEVENT
UID:20260424T084043Z-7452729052803126461@eventfrog.at
DTSTAMP:20260424T084043Z
DTSTART:20260627T140000Z
DTEND:20260627T160000Z
SUMMARY:TRE & Meditation - Der rote Jaspis & mein Platz in der Welt
DESCRIPTION:Wir meditieren mit Jaspis-Edelstein nach Heidrun Horn, um inneren Halt zu stärken und den Körper zu unterstützen.\n\nhttps://eventfrog.at/de/p/gesundheit-spiritualitaet/gesundheit-wohlbefinden/tre-meditation-der-rote-jaspis-mein-platz-in-der-welt-7452729052803126461.html
LOCATION:Gsundheitspraxis Kriech
GEO:47.067071;7.343919
URL:https://eventfrog.at/de/p/gesundheit-spiritualitaet/gesundheit-wohlbefinden/tre-meditation-der-rote-jaspis-mein-platz-in-der-welt-7452729052803126461.html
END:VEVENT
END:VCALENDAR