BEGIN:VCALENDAR
VERSION:2.0
PRODID:EVENTFROG//EVENT//ICAL
BEGIN:VEVENT
UID:20260424T161503Z-7452728712271760498@eventfrog.at
DTSTAMP:20260424T161503Z
DTSTART:20260502T120000Z
DTEND:20260503T160000Z
SUMMARY:Innere Ruhe & mentale Ausgeglichenheit - Frauenwochenende
DESCRIPTION:Zweis­tägiges Yoga- und Meditationsretreat für max. 6 Frauen am Zürichsee zur Stressreduktion, für ganzheitliche Erholung und Ausgeglichenheit am Wochenende.\n\nhttps://eventfrog.at/de/p/gesundheit-spiritualitaet/gesundheit-wohlbefinden/innere-ruhe-mentale-ausgeglichenheit-frauenwochenende-7452728712271760498.html
LOCATION:Rapperswil-Jona
GEO:47.220655;8.865922
URL:https://eventfrog.at/de/p/gesundheit-spiritualitaet/gesundheit-wohlbefinden/innere-ruhe-mentale-ausgeglichenheit-frauenwochenende-7452728712271760498.html
END:VEVENT
END:VCALENDAR