BEGIN:VCALENDAR
VERSION:2.0
PRODID:EVENTFROG//EVENT//ICAL
BEGIN:VEVENT
UID:20260424T122256Z-7452725589251770013@eventfrog.at
DTSTAMP:20260424T122256Z
DTSTART:20270116T101100Z
DTEND:20270116T160000Z
SUMMARY:Biwak der Ehrengarde
DESCRIPTION:Freuen Sie sich auf ein buntes Programm mit verschiedenen befreundeten Vereinen und Garden aus Düsseldorf und dem Rheinland. Tauchen Sie ein in die lebendige Karnevalstradition\n\nhttps://eventfrog.at/de/p/fasnacht-fasching-karneval/sonstige-veranstaltungen/biwak-der-ehrengarde-7452725589251770013.html
LOCATION:Oststraße 123
GEO:51.221541;6.785280
URL:https://eventfrog.at/de/p/fasnacht-fasching-karneval/sonstige-veranstaltungen/biwak-der-ehrengarde-7452725589251770013.html
END:VEVENT
END:VCALENDAR