BEGIN:VCALENDAR
VERSION:2.0
PRODID:EVENTFROG//EVENT//ICAL
BEGIN:VEVENT
UID:20260424T112533Z-7452714761731457012@eventfrog.at
DTSTAMP:20260424T112533Z
DTSTART:20261127T090000Z
DTEND:20261127T103000Z
SUMMARY:Saug, Such, Greif, Hochzieh Reflex
DESCRIPTION:Der Kurs integriert frühkindliche Reflexe, um Erdung, Körperwahrnehmung und Stabilität bei Erwachsenen zu fördern.\n\nhttps://eventfrog.at/de/p/kurse-seminare/sonstige-kurse-seminare/saug-such-greif-hochzieh-reflex-7452714761731457012.html
LOCATION:Gsundheitspraxis Kriech
GEO:47.067071;7.343919
URL:https://eventfrog.at/de/p/kurse-seminare/sonstige-kurse-seminare/saug-such-greif-hochzieh-reflex-7452714761731457012.html
END:VEVENT
END:VCALENDAR