BEGIN:VCALENDAR
VERSION:2.0
PRODID:EVENTFROG//EVENT//ICAL
BEGIN:VEVENT
UID:20260424T084220Z-7452711485107638160@eventfrog.at
DTSTAMP:20260424T084220Z
DTSTART:20260828T080000Z
DTEND:20260828T093000Z
SUMMARY:ATNR – von innerer Einseitigkeit zurück in Balance & Mitte
DESCRIPTION:Der Kurs hilft, den ATNR-Reflex zu integrieren und so für mehr innere Balance und körperliche Mitte zu sorgen.\n\nhttps://eventfrog.at/de/p/gesundheit-spiritualitaet/gesundheit-wohlbefinden/atnr-von-innerer-einseitigkeit-zurueck-in-balance-mitte-7452711485107638160.html
LOCATION:Gsundheitspraxis Kriech
GEO:47.067071;7.343919
URL:https://eventfrog.at/de/p/gesundheit-spiritualitaet/gesundheit-wohlbefinden/atnr-von-innerer-einseitigkeit-zurueck-in-balance-mitte-7452711485107638160.html
END:VEVENT
END:VCALENDAR