BEGIN:VCALENDAR
VERSION:2.0
PRODID:EVENTFROG//EVENT//ICAL
BEGIN:VEVENT
UID:20260422T204830Z-7452708442328796485@eventfrog.at
DTSTAMP:20260422T204830Z
DTSTART:20261121T180000Z
DTEND:20261121T210000Z
SUMMARY:Mamma Mia (ABBA) Mitsing-Party – Hits, DJ & 70s-Feeling!
DESCRIPTION:Erlebe bei der Mamma Mia Mitsing-Party die größten ABBA-Hits mit Live-DJ und interaktiver Stimmung im 70er-Jahre-Style.\n\nhttps://eventfrog.at/de/p/partys/70-s/mamma-mia-abba-mitsing-party-hits-dj-70s-feeling-7452708442328796485.html
LOCATION:Rockfabrik Augsburg
GEO:48.341017;10.897630
URL:https://eventfrog.at/de/p/partys/70-s/mamma-mia-abba-mitsing-party-hits-dj-70s-feeling-7452708442328796485.html
END:VEVENT
END:VCALENDAR