BEGIN:VCALENDAR
VERSION:2.0
PRODID:EVENTFROG//EVENT//ICAL
BEGIN:VEVENT
UID:20260422T162946Z-7452707459620202779@eventfrog.at
DTSTAMP:20260422T162946Z
DTSTART:20260423T070000Z
DTEND:20260530T120000Z
SUMMARY:Vitrinen-Ausstellung Hans Witzig
DESCRIPTION:Vitrinen-Ausstellung über das Werk von Hans Witzig\n\nhttps://eventfrog.at/de/p/kunst-ausstellungen/ausstellung/vitrinen-ausstellung-hans-witzig-7452707459620202779.html
LOCATION:Stadt- und Regionalbibliothek
GEO:47.403200;8.401270
URL:https://eventfrog.at/de/p/kunst-ausstellungen/ausstellung/vitrinen-ausstellung-hans-witzig-7452707459620202779.html
END:VEVENT
END:VCALENDAR