BEGIN:VCALENDAR
VERSION:2.0
PRODID:EVENTFROG//EVENT//ICAL
BEGIN:VEVENT
UID:20260422T204832Z-7452705651451516914@eventfrog.at
DTSTAMP:20260422T204832Z
DTSTART:20260925T180000Z
DTEND:20260925T210000Z
SUMMARY:Mamma Mia (ABBA) Mitsing-Party – Hits, DJ & 70s-Feeling!
DESCRIPTION:Erlebe bei der Mamma Mia Mitsing-Party die größten ABBA-Hits mit Live-DJ und interaktiver Stimmung im 70er-Jahre-Style.\n\nhttps://eventfrog.at/de/p/partys/70-s/mamma-mia-abba-mitsing-party-hits-dj-70s-feeling-7452705651451516914.html
LOCATION:Cafe Europa
GEO:52.023287;8.533895
URL:https://eventfrog.at/de/p/partys/70-s/mamma-mia-abba-mitsing-party-hits-dj-70s-feeling-7452705651451516914.html
END:VEVENT
END:VCALENDAR