BEGIN:VCALENDAR
VERSION:2.0
PRODID:EVENTFROG//EVENT//ICAL
BEGIN:VEVENT
UID:20260424T114415Z-7452704607409557550@eventfrog.at
DTSTAMP:20260424T114415Z
DTSTART:20260625T173000Z
DTEND:20260625T200000Z
SUMMARY:Farragut North
DESCRIPTION:FARRAGUT NORTH portrays the ruthless strategies and shifting loyalties behind a US presidential primary campaign.\n\nhttps://eventfrog.at/en/p/theatre-stage/theatre/farragut-north-7452704607409557550.html
LOCATION:Millers
GEO:47.351585;8.561410
URL:https://eventfrog.at/en/p/theatre-stage/theatre/farragut-north-7452704607409557550.html
END:VEVENT
END:VCALENDAR