BEGIN:VCALENDAR
VERSION:2.0
PRODID:EVENTFROG//EVENT//ICAL
BEGIN:VEVENT
UID:20260424T102320Z-7452701041559088718@eventfrog.at
DTSTAMP:20260424T102320Z
DTSTART:20260710T173000Z
SUMMARY:Zirkus Chnopf - UFE
DESCRIPTION:UFE ist die neuste Produktion vom Zirkus Chnopf mit 5 Profis und 5 Jugendlichen und jungen Artist:innen zwischen 14 und 23 - unter freiem Himmel.\n\nhttps://eventfrog.at/de/p/musicals-shows/zirkus/zirkus-chnopf-ufe-7452701041559088718.html
LOCATION:Holligenpark Ost
GEO:46.944905;7.418246
URL:https://eventfrog.at/de/p/musicals-shows/zirkus/zirkus-chnopf-ufe-7452701041559088718.html
END:VEVENT
END:VCALENDAR